BEGIN:VCALENDAR
VERSION:2.0
PRODID:-//Boombatze Entertainment - ECPv6.15.20//NONSGML v1.0//EN
CALSCALE:GREGORIAN
METHOD:PUBLISH
X-ORIGINAL-URL:https://www.boombatzeentertainment.de
X-WR-CALDESC:Veranstaltungen für Boombatze Entertainment
REFRESH-INTERVAL;VALUE=DURATION:PT1H
X-Robots-Tag:noindex
X-PUBLISHED-TTL:PT1H
BEGIN:VTIMEZONE
TZID:Europe/Berlin
BEGIN:DAYLIGHT
TZOFFSETFROM:+0100
TZOFFSETTO:+0200
TZNAME:CEST
DTSTART:20250330T010000
END:DAYLIGHT
BEGIN:STANDARD
TZOFFSETFROM:+0200
TZOFFSETTO:+0100
TZNAME:CET
DTSTART:20251026T010000
END:STANDARD
BEGIN:DAYLIGHT
TZOFFSETFROM:+0100
TZOFFSETTO:+0200
TZNAME:CEST
DTSTART:20260329T010000
END:DAYLIGHT
BEGIN:STANDARD
TZOFFSETFROM:+0200
TZOFFSETTO:+0100
TZNAME:CET
DTSTART:20261025T010000
END:STANDARD
BEGIN:DAYLIGHT
TZOFFSETFROM:+0100
TZOFFSETTO:+0200
TZNAME:CEST
DTSTART:20270328T010000
END:DAYLIGHT
BEGIN:STANDARD
TZOFFSETFROM:+0200
TZOFFSETTO:+0100
TZNAME:CET
DTSTART:20271031T010000
END:STANDARD
END:VTIMEZONE
BEGIN:VEVENT
DTSTART;TZID=Europe/Berlin:20260603T190000
DTEND;TZID=Europe/Berlin:20260603T230000
DTSTAMP:20260421T173213
CREATED:20260306T140000Z
LAST-MODIFIED:20260325T122608Z
UID:16063-1780513200-1780527600@www.boombatzeentertainment.de
SUMMARY:ZOOKRAUGHT [Seattle | USA] + AIKA [Jena] | Museumskeller Erfurt
DESCRIPTION:>>> Hier schnell zu den Tickets <<<\n\n\n\n\n\n\n\nZOOKRAUGHT [Dance-Punk | Seattle / USA]\n\n\n\nInstagram\n\nBandcamp\n\nSpotify\n\nYouTube\n\nFacebook\n\n\n\nAIKA [Electro-Rave-Punk | Jena]\n\n\n\nBandcamp\n\nInstagram\n\nSpotify\n\nYouTube\n\nFacebook\n\n\n\nMi 3.6.2026 | Doors 19Uhr | Start 20UhrMuseumskeller Erfurt\n\n\n\nSeattle’s freak-punk dance machine kommt zurück nach Europa: ZOOKRAUGHT bringen am 3. Juni 2026 den Museumskeller zum Beben. Mit psyched-out Facepaint\, explosiver Bühnenenergie und einem wilden Mix aus Dance-Punk\, Noise und Chaos verwandelt das Trio jeden Auftritt in eine verschwitzte Party voller Ekstase. \n\n\n\nNach ihrer gefeierten ersten EU/UK-Tour 2024 legt die Band nach – mit neuen Singles\, einem frischen EP-Ausblick und ihrem aktuellen Album VIDA VIOLET\, das bereits in den USA für Furore sorgte. Erwartet eine Nacht voller Schweiß\, schriller Rhythmen und kompromissloser Energie – Zookraught live ist keine Show\, sondern ein Erlebnis. \n\n\n\nEröffnet wird der Abend von AIKA (Jena): Das Thüringer Duo\, früher noch als Aika Akakomowitsch unterwegs\, bringt einen kompromisslosen Mix aus Elektropunk\, Rave und Punk auf die Bühne – roh\, tanzbar und direkt. Zwischen treibenden Beats\, verzerrten Gitarren und Club-Energie entsteht ein Sound\, der sofort zündet und sich irgendwo zwischen Eskalation und Pop bewegt. \n\n\n\n\n\n\n\n\n\n* NO NAZIS * NO SEXISTS * NO ANTISEMITES * NO SHIRT = NO SERVICE *\n\n\n\nWir dulden kein Merchandise von Bands aus dem rechten Spektrum. Beim Tragen von Merch einschlägiger Bands machen wir Gebrauch von unserem Hausrecht und der Zutritt zur Veranstaltung wird verweigert. Hier hilft dann auch kein diskutieren! Allgemein wünschen wir uns einen rücksichtsvollen Umgang miteinander\, damit wir gemeinsam eine gute Zeit haben. Solltet ihr ein Anliegen haben\, könnt ihr euch jederzeit an das Personal an der Tür oder an das Awareness-Team (wenn im Einsatz) wenden. \n\n\n\n\n\n\n\n\n\n\n\n\n\nTickets\n\n\n\nTickets auch auf thuGO.de erhältlich
URL:https://www.boombatzeentertainment.de/event/zookraught-seattle-usa-museumskeller-erfurt/
LOCATION:Museumskeller\, Juri-Gagarin-Ring 140a\, Erfurt\, Thüringen\, 99084\, Germany
CATEGORIES:Erfurt,Local shows,Museumskeller
ATTACH;FMTTYPE=image/webp:https://www.boombatzeentertainment.de/wp-content/uploads/2026/03/zookraught26-neu-sharepic_1-1.webp
END:VEVENT
END:VCALENDAR