BEGIN:VCALENDAR
VERSION:2.0
PRODID:-//Boombatze Entertainment - ECPv6.15.20//NONSGML v1.0//EN
CALSCALE:GREGORIAN
METHOD:PUBLISH
X-ORIGINAL-URL:https://www.boombatzeentertainment.de
X-WR-CALDESC:Veranstaltungen für Boombatze Entertainment
REFRESH-INTERVAL;VALUE=DURATION:PT1H
X-Robots-Tag:noindex
X-PUBLISHED-TTL:PT1H
BEGIN:VTIMEZONE
TZID:Europe/Berlin
BEGIN:DAYLIGHT
TZOFFSETFROM:+0100
TZOFFSETTO:+0200
TZNAME:CEST
DTSTART:20250330T010000
END:DAYLIGHT
BEGIN:STANDARD
TZOFFSETFROM:+0200
TZOFFSETTO:+0100
TZNAME:CET
DTSTART:20251026T010000
END:STANDARD
BEGIN:DAYLIGHT
TZOFFSETFROM:+0100
TZOFFSETTO:+0200
TZNAME:CEST
DTSTART:20260329T010000
END:DAYLIGHT
BEGIN:STANDARD
TZOFFSETFROM:+0200
TZOFFSETTO:+0100
TZNAME:CET
DTSTART:20261025T010000
END:STANDARD
BEGIN:DAYLIGHT
TZOFFSETFROM:+0100
TZOFFSETTO:+0200
TZNAME:CEST
DTSTART:20270328T010000
END:DAYLIGHT
BEGIN:STANDARD
TZOFFSETFROM:+0200
TZOFFSETTO:+0100
TZNAME:CET
DTSTART:20271031T010000
END:STANDARD
END:VTIMEZONE
BEGIN:VEVENT
DTSTART;TZID=Europe/Berlin:20260328T190000
DTEND;TZID=Europe/Berlin:20260328T230000
DTSTAMP:20260420T183347
CREATED:20260305T182916Z
LAST-MODIFIED:20260327T101956Z
UID:17881-1774724400-1774738800@www.boombatzeentertainment.de
SUMMARY:BERLIN 2.0 [Stuttgart] + OLL [Jena] | Museumskeller Erfurt
DESCRIPTION:>>> Hier schnell zu den Tickets <<<\n\n\n\n\n\n\n\nBERLIN 2.0 [Death Pop\, PostPunk | Stuttgart]\n\n\n\nInstagram\n\nBandcamp\n\nSpotify\n\nFacebook\n\nYouTube\n\n\n\nOLL [WavePunk | Jena]\n\n\n\nBandcamp\n\nInstagram\n\nSpotify\n\n\n\nSa 28.3.2026 | Doors 19Uhr | Start 20UhrMuseumskeller Erfurt\n\n\n\nBERLIN 2.0 haben um Hilfe gerufen\, und da wir sie sehr mögen\, haben wir ganz kurzfristig den Museumskeller freigeschaufelt\, so dass sie noch einmal ihr grandioses Album „Kaltental“ vorstellen können. Für alle\, die sich im Oktober bei Loikaemie & Co. verlustiert haben\, gibt es am 28.3.26 noch eine zweite Chance. Nutzt das! \n\n\n\nVergesst alles\, was ihr über Postpunk zu wissen glaubt: Hier wird keine Welle geritten – hier wird eine entfesselt. Auf ihrem neuen Album verbinden BERLIN 2.0 kalten Weltschmerz mit glühender Wut\, Hardcore-Eruptionen mit melodischem Endzeitpop und radikal-klarsichtigen Texten\, die sich in eure Hirnwindungen brennen. \n\n\n\nElena reißt mit ihrer Stimme Mauern ein\, Sängerin\, Anklägerin\, Jeanne d’Arc in Rüstung – begleitet von einem Soundgewitter\, das keinen Platz für Gleichgültigkeit lässt. \n\n\n\nEin Muss für alle\, die zwischen Dystopie und Aufbruch noch nicht aufgegeben haben. \n\n\n\nDie WavePunker OLL aus Jena werden diesen wunderbaren Abend eröffnen. \n\n\n\n\n\n\n\n\n\n* NO NAZIS * NO SEXISTS * NO ANTISEMITES * NO SHIRT = NO SERVICE *\n\n\n\nWir dulden kein Merchandise von Bands aus dem rechten Spektrum. Beim Tragen von Merch einschlägiger Bands machen wir Gebrauch von unserem Hausrecht und der Zutritt zur Veranstaltung wird verweigert. Hier hilft dann auch kein diskutieren! Allgemein wünschen wir uns einen rücksichtsvollen Umgang miteinander\, damit wir gemeinsam eine gute Zeit haben. Solltet ihr ein Anliegen haben\, könnt ihr euch jederzeit an das Personal an der Tür oder an das Awareness-Team (wenn im Einsatz) wenden. \n\n\n\n\n\n\n\n\n\n\n\n\n\nTickets\n\n\n\nGibts im Museumskeller am Tresen.\n\n\n\nTickets auch auf thuGO.de erhältlich
URL:https://www.boombatzeentertainment.de/event/berlin-2-0-stuttgart-oll-jena-museumskeller-erfurt/
LOCATION:Museumskeller\, Juri-Gagarin-Ring 140a\, Erfurt\, Thüringen\, 99084\, Germany
CATEGORIES:Erfurt,Local shows,Museumskeller
ATTACH;FMTTYPE=image/webp:https://www.boombatzeentertainment.de/wp-content/uploads/2026/03/berlin2026-sharepic_1.webp
END:VEVENT
END:VCALENDAR