BEGIN:VCALENDAR
VERSION:2.0
PRODID:-//Boombatze Entertainment - ECPv6.15.20//NONSGML v1.0//EN
CALSCALE:GREGORIAN
METHOD:PUBLISH
X-WR-CALNAME:Boombatze Entertainment
X-ORIGINAL-URL:https://www.boombatzeentertainment.de
X-WR-CALDESC:Veranstaltungen für Boombatze Entertainment
REFRESH-INTERVAL;VALUE=DURATION:PT1H
X-Robots-Tag:noindex
X-PUBLISHED-TTL:PT1H
BEGIN:VTIMEZONE
TZID:Europe/Berlin
BEGIN:DAYLIGHT
TZOFFSETFROM:+0100
TZOFFSETTO:+0200
TZNAME:CEST
DTSTART:20240331T010000
END:DAYLIGHT
BEGIN:STANDARD
TZOFFSETFROM:+0200
TZOFFSETTO:+0100
TZNAME:CET
DTSTART:20241027T010000
END:STANDARD
BEGIN:DAYLIGHT
TZOFFSETFROM:+0100
TZOFFSETTO:+0200
TZNAME:CEST
DTSTART:20250330T010000
END:DAYLIGHT
BEGIN:STANDARD
TZOFFSETFROM:+0200
TZOFFSETTO:+0100
TZNAME:CET
DTSTART:20251026T010000
END:STANDARD
BEGIN:DAYLIGHT
TZOFFSETFROM:+0100
TZOFFSETTO:+0200
TZNAME:CEST
DTSTART:20260329T010000
END:DAYLIGHT
BEGIN:STANDARD
TZOFFSETFROM:+0200
TZOFFSETTO:+0100
TZNAME:CET
DTSTART:20261025T010000
END:STANDARD
END:VTIMEZONE
BEGIN:VEVENT
DTSTART;TZID=Europe/Berlin:20251028T190000
DTEND;TZID=Europe/Berlin:20251028T230000
DTSTAMP:20260420T173847
CREATED:20250717T101633Z
LAST-MODIFIED:20251027T113546Z
UID:15070-1761678000-1761692400@www.boombatzeentertainment.de
SUMMARY:MÉNADES [Paris/FR] + (F)ROHE ZUKUNFT [EF] | Frau Korte Erfurt
DESCRIPTION:>>> Hier schnell zu den Tickets <<<\n\n\n\n\n\n\n\nMÉNADES [PostPunk | Paris/FR]\n\n\n\nInstagram\n\nBandcamp\n\nFacebook\n\nSpotify\n\nYouTube\n\n\n\n(F)ROHE ZUKUNFT [Rock/Stoner/Wave | EF]\n\n\n\nDi 28.10.2025 | Doors 19Uhr | Start 20UhrFrau Korte Erfurt\n\n\n\nMit der Wucht eines Gewitters stürmen MÉNADES die Bühnen Europas – und jetzt auch die FRAU KORTE Erfurt! Die französische Post-Punk-Band hat sich mit ihrem explosiven Debütalbum\, zwei Europatouren und Auftritten bei Festivals wie Rock en Seine\, Freak Out (Seattle) und Psyched Fest (San Francisco) bereits einen Namen gemacht. \n\n\n\nMénades liefern auf der Bühne ein intensives Spektakel: besessene Körper\, brodelnde Energie\, ein Sound zwischen Wut und Ekstase. Wer auf Bands wie IDLES\, Viagra Boys oder Amyl & the Sniffers steht\, wird sich hier wie zuhause fühlen – nur mit einer extra Dosis französischem Wahnsinn. \n\n\n\nIhr Stil? Eine rebellische Melange aus 90s Punk\, Shoegaze\, Psychedelia und funkigen Grooves. Dissonante Gitarren\, verhallte Vocals\, tanzbare Basslinien – und Texte\, die unsere Zeit reflektieren\, ohne belehrend zu sein. \n\n\n\n(F)ROHE ZUKUNFT nehmen die Zukunft mit Galgenhumor – musikalisch irgendwo zwischen Alternative Rock\, Stoner und allem\, was euch sonst noch einfällt. 🙌  \n\n\n\nEin Abend für alle\, die lieber schwitzen als stillstehen. \n\n\n\nNicht verpassen – das wird wild! \n\n\n\n\n\n\n\n\n\n* NO NAZIS * NO SEXISTS * NO ANTISEMITES * NO SHIRT = NO SERVICE *\n\n\n\nWir dulden kein Merchandise von Bands aus dem rechten Spektrum. Beim Tragen von Merch einschlägiger Bands machen wir Gebrauch von unserem Hausrecht und der Zutritt zur Veranstaltung wird verweigert. Hier hilft dann auch kein diskutieren! Allgemein wünschen wir uns einen rücksichtsvollen Umgang miteinander\, damit wir gemeinsam eine gute Zeit haben. Solltet ihr ein Anliegen haben\, könnt ihr euch jederzeit an das Personal an der Tür oder an das Awareness-Team (wenn im Einsatz) wenden. \n\n\n\n\n\n\n\n\n\n\n\n\n\nTickets\n\n\n\nGibts auch im WOODSTOCK RECORDSTORE.\n\n\n\nTickets auch auf thuGO.de erhältlich
URL:https://www.boombatzeentertainment.de/event/menades-paris-fr-frau-korte-erfurt/
LOCATION:Frau Korte\, Magdeburger Allee 179\, Erfurt\, Thüringen\, 99086\, Germany
CATEGORIES:Erfurt,Frau Korte,Local shows
ATTACH;FMTTYPE=image/webp:https://www.boombatzeentertainment.de/wp-content/uploads/2025/07/menades25-fk-sharepic_1-1.webp
ORGANIZER;CN="Boombatze Entertainment":MAILTO:atze@boombatzeentertainment.de
END:VEVENT
END:VCALENDAR