BEGIN:VCALENDAR
VERSION:2.0
PRODID:-//Boombatze Entertainment - ECPv6.15.20//NONSGML v1.0//EN
CALSCALE:GREGORIAN
METHOD:PUBLISH
X-WR-CALNAME:Boombatze Entertainment
X-ORIGINAL-URL:https://www.boombatzeentertainment.de
X-WR-CALDESC:Veranstaltungen für Boombatze Entertainment
REFRESH-INTERVAL;VALUE=DURATION:PT1H
X-Robots-Tag:noindex
X-PUBLISHED-TTL:PT1H
BEGIN:VTIMEZONE
TZID:Europe/Berlin
BEGIN:DAYLIGHT
TZOFFSETFROM:+0100
TZOFFSETTO:+0200
TZNAME:CEST
DTSTART:20230326T010000
END:DAYLIGHT
BEGIN:STANDARD
TZOFFSETFROM:+0200
TZOFFSETTO:+0100
TZNAME:CET
DTSTART:20231029T010000
END:STANDARD
BEGIN:DAYLIGHT
TZOFFSETFROM:+0100
TZOFFSETTO:+0200
TZNAME:CEST
DTSTART:20240331T010000
END:DAYLIGHT
BEGIN:STANDARD
TZOFFSETFROM:+0200
TZOFFSETTO:+0100
TZNAME:CET
DTSTART:20241027T010000
END:STANDARD
BEGIN:DAYLIGHT
TZOFFSETFROM:+0100
TZOFFSETTO:+0200
TZNAME:CEST
DTSTART:20250330T010000
END:DAYLIGHT
BEGIN:STANDARD
TZOFFSETFROM:+0200
TZOFFSETTO:+0100
TZNAME:CET
DTSTART:20251026T010000
END:STANDARD
END:VTIMEZONE
BEGIN:VEVENT
DTSTART;TZID=Europe/Berlin:20241010T190000
DTEND;TZID=Europe/Berlin:20241010T230000
DTSTAMP:20260421T130203
CREATED:20240905T152723Z
LAST-MODIFIED:20250917T101301Z
UID:12674-1728586800-1728601200@www.boombatzeentertainment.de
SUMMARY:CLAIMED CHOICE [Lyon] + CRAN [Paris] | Café Tikolor
DESCRIPTION:CLAIMED CHOICE [Punk\, Oi!\, Bovver Glam Rock | Lyon/France]\n\n\n\nInstagram\n\nBandcamp\n\nSpotify\n\nFacebook\n\n\n\nDer mit der puren Energie einer ordentlichen Schelle geladene Mix aus Oi\, Pub Rock und Bovver Glam geht absolut nach vorne. Angetrieben von prominenten Bassläufen\, die selbst Matt Freeman gefallen dürften\, aber immer noch rau und Lo-Fi genug\, um als Soundtrack für den nächsten Hinterhoffaustkampf herzuhalten.So zerlegen Claimed Choice mit ihrem frischen Sound und abseits jeglicher eindimensonalen Skinhead-Plattitüde die Bühnen Europas und lassen im Tiko Keller den Sandstein von der Decke bröseln. \n\n\n\nCRAN [Punk | Paris/France]\n\n\n\nInstagram\n\nBandcamp\n\nSpotify\n\nFacebook\n\n\n\nGegründet 2018 in Paris\, erwartet euch mit Cran wütender Streetpunk mit tiefgründigen\, teils melancholischen französischen Texten. Diese werden euch von Sängerin Ed mit einer Intensität um die Ohren gehauen\, die sich auch trotz etwaiger Sprachbarrieren in Gehörgang und Hirn festbeißen wie ein Terrier in der Wade. \n\n\n\nCran transportieren das was sie zu sagen haben\, ohne sich dabei an potentiellen Vorbildern und zugehörigen Klischees von der Insel zu bedienen oder sich in den Fußstapfen französischer Vorreiter-Bands wie Camera Silens zu verlieren. \n\n\n\n\n\n\n\n\n\n* NO NAZIS * NO SEXISTS * NO ANTISEMITES * NO SHIRT = NO SERVICE *\n\n\n\nWir dulden kein Merchandise von Bands aus dem rechten Spektrum. Beim Tragen von Merch einschlägiger Bands machen wir Gebrauch von unserem Hausrecht und der Zutritt zur Veranstaltung wird verweigert. Hier hilft dann auch kein diskutieren! Allgemein wünschen wir uns einen rücksichtsvollen Umgang miteinander\, damit wir gemeinsam eine gute Zeit haben. Solltet ihr ein Anliegen haben\, könnt ihr euch jederzeit an das Personal an der Tür oder an das Awareness-Team (wenn im Einsatz) wenden.
URL:https://www.boombatzeentertainment.de/event/claimed-choice-lyon-cran-paris-cafe-tikolor/
LOCATION:Café Tikolor (Ex-Tiko)\, Am Wenigemarkt 5a\, Erfurt\, Thüringen\, 99084\, Deutschland
ATTACH;FMTTYPE=image/jpeg:https://www.boombatzeentertainment.de/wp-content/uploads/2024/09/choice24-sharepic_1-2.jpg
ORGANIZER;CN="Boombatze Entertainment":MAILTO:atze@boombatzeentertainment.de
END:VEVENT
END:VCALENDAR