BEGIN:VCALENDAR
VERSION:2.0
PRODID:-//Boombatze Entertainment - ECPv6.15.20//NONSGML v1.0//EN
CALSCALE:GREGORIAN
METHOD:PUBLISH
X-WR-CALNAME:Boombatze Entertainment
X-ORIGINAL-URL:https://www.boombatzeentertainment.de
X-WR-CALDESC:Veranstaltungen für Boombatze Entertainment
REFRESH-INTERVAL;VALUE=DURATION:PT1H
X-Robots-Tag:noindex
X-PUBLISHED-TTL:PT1H
BEGIN:VTIMEZONE
TZID:Europe/Berlin
BEGIN:DAYLIGHT
TZOFFSETFROM:+0100
TZOFFSETTO:+0200
TZNAME:CEST
DTSTART:20230326T010000
END:DAYLIGHT
BEGIN:STANDARD
TZOFFSETFROM:+0200
TZOFFSETTO:+0100
TZNAME:CET
DTSTART:20231029T010000
END:STANDARD
BEGIN:DAYLIGHT
TZOFFSETFROM:+0100
TZOFFSETTO:+0200
TZNAME:CEST
DTSTART:20240331T010000
END:DAYLIGHT
BEGIN:STANDARD
TZOFFSETFROM:+0200
TZOFFSETTO:+0100
TZNAME:CET
DTSTART:20241027T010000
END:STANDARD
BEGIN:DAYLIGHT
TZOFFSETFROM:+0100
TZOFFSETTO:+0200
TZNAME:CEST
DTSTART:20250330T010000
END:DAYLIGHT
BEGIN:STANDARD
TZOFFSETFROM:+0200
TZOFFSETTO:+0100
TZNAME:CET
DTSTART:20251026T010000
END:STANDARD
END:VTIMEZONE
BEGIN:VEVENT
DTSTART;TZID=Europe/Berlin:20240816T200000
DTEND;TZID=Europe/Berlin:20240816T233000
DTSTAMP:20260421T154622
CREATED:20240805T174009Z
LAST-MODIFIED:20250917T101344Z
UID:12555-1723838400-1723851000@www.boombatzeentertainment.de
SUMMARY:Tikolor Soli Sause | Café Tikolor
DESCRIPTION:Was passiert wenn jemand deinem zweiten Wohnzimmer\, deinem (sub-)kulturellen Mittelpunkt und vor allem den Menschen\, die es ermöglichen\, dass du diesen hast\, existenziellen Schaden zufügt? \n\n\n\nRichtig! Es gibt aufs Maul und dann hilft Mensch den betroffenen Menschen! \n\n\n\nUnd so fanden sich die schlimmsten Brunnenputzer:innen\, Scherenschleifer:innen\, die größten Thekenheld:innen und die kreativsten Kulturschaffenden aus dem Tiko zusammen\, um beide Lösungswege zu vereinen. \n\n\n\nEine Soli Party – Musikalisch aufs Maul und dabei wird ordentlich getrunken und gespendet! \n\n\n\n16.8.2024 | Doors 20Uhr | Café Tiko(lor) Erfurt\n\n\n\nDie musikalischen Schellen verteilen live auf der Bühne… \n\n\n\nKrümelmilch\n\n\n\nFacebook\n\nInstagram\n\nBandcamp\n\n\n\nPädagogisch wertvoller Rumpelpunk aus Erfurt\, bei dem man auch im Falle einer alkoholinduzierten temporären Entwicklungsregression in den besten Händen ist.  \n\n\n\nFünf unglaublich sympathische Musiker:innen\, die nicht die Katze aus dem Sack sondern das Einhorn aus dem Eimer lassen! \n\n\n\nAudtitive Anschluss-Schellen von Vinyl verteilen… \n\n\n\nAnnOi!\n\n\n\nSie ist unterwegs um die Welt mit räudiger Oi! und Punkrockmusik ein bisschen besser zu machen. Mitten in die Fresse\, niveauflexibel\, immer antifaschistisch und das Patriarchat kriegt auch aufs Maul!Ready to AnnOi! You!  \n\n\n\nAgathe Feeling\n\n\n\nEigentlich sonst mit Agathe Power im „Wir reißen die Hütte ab Tag Team“ unterwegs\, wird Agathe Feeling dieses Mal alleine ihre persönliche Vinyl Schatztruhe öffnen und im Angesicht von Perlen und Skurrilem aus den 70er und 80ern werdet ihr euer wahres musikalisches Inneres nach außen kehren! Anti-Dogmatic-Dance-Action! \n\n\n\nKrawallnadel\n\n\n\nWenn dieser dynamische junge Mann die Nadel durch die Rille pflügen lässt bleibt nichts wie es war! Mit dem Korkenzieher durch den Gehörgang ins Hirn\, emotional aufgewühlt durch schrammlig-melancholische Punkrockpoesie oder mit dem Bier in der Hand und der Faust in der Luft in musikalisch vereinter Glückseligkeit. Alles ist möglich! \n\n\n\n* NO NAZIS * NO SEXISTS * NO ANTISEMITES * NO SHIRT = NO SERVICE *\n\n\n\nWir dulden kein Merchandise von Bands aus dem rechten Spektrum. Beim Tragen von Merch einschlägiger Bands machen wir Gebrauch von unserem Hausrecht und der Zutritt zur Veranstaltung wird verweigert. Hier hilft dann auch kein diskutieren! Allgemein wünschen wir uns einen rücksichtsvollen Umgang miteinander\, damit wir gemeinsam eine gute Zeit haben. Solltet ihr ein Anliegen haben\, könnt ihr euch jederzeit an das Personal an der Tür oder an das Awareness-Team (wenn im Einsatz) wenden.
URL:https://www.boombatzeentertainment.de/event/tikolor-soli-sause-cafe-tikolor/
LOCATION:Café Tikolor (Ex-Tiko)\, Am Wenigemarkt 5a\, Erfurt\, Thüringen\, 99084\, Deutschland
ATTACH;FMTTYPE=image/jpeg:https://www.boombatzeentertainment.de/wp-content/uploads/2024/08/Tiko-Soli-Sause-sharepic_1.jpg
END:VEVENT
BEGIN:VEVENT
DTSTART;TZID=Europe/Berlin:20240829T190000
DTEND;TZID=Europe/Berlin:20240829T230000
DTSTAMP:20260421T154622
CREATED:20240618T134123Z
LAST-MODIFIED:20250917T101333Z
UID:12400-1724958000-1724972400@www.boombatzeentertainment.de
SUMMARY:ADRATS [DD] + JODIE FASTER [F] + 1ADHOKK [EF] | AJZ Erfurt
DESCRIPTION:Da wir eueren Freizeitstress an einem Donnerstag im Sommer nicht vollends ausreizen wollen\, haben Bordstein Concerts und ich beschlossen\, die beiden Konzerte zusammen zu legen und ihr somit nichts verpasst 😃 \n\n\n\nADRATS [Art-Punk | Dresden]\n\n\n\nBandcamp\n\nInstagram\n\nFacebook\n\n\n\nJODIE FASTER [Hardcore Punk | France]\n\n\n\nInstagram\n\nBandcamp\n\nYouTube\n\nFacebook\n\n\n\n1ADHOKK [Punk aus Erfurt City]\n\n\n\nInstagram\n\nBandcamp\n\n\n\nDonnerstag 29.8.2024 | Doors 19Uhr | Start 20UhrAJZ Erfurt\n\n\n\nAdrats\n\n\n\nEin leises Schnüffeln\, ein lautes Quieken\, mal fabulös\, mal ganz adrett\, mal im richtigen Maße nicht nett. Aus der düsteren Dresdner Kanalisation tischt diese scheinende Rattenplage ein buntes Ratatouille reich an (irr)sinnigem Art-Punk auf – gewürzt mit einer Prise Sarkasmus. \n\n\n\nJodie Faster \n\n\n\nJodie Faster aus unserer französischen Partner*innenstadt Lille spielen schnellen\, abwechslungsreichen Hardcore mit politischen Texten und unverzerrten Gitarren; die Stücke überschreiten dabei so gut wie nie die Zwei-Minuten-Marke. \n\n\n\n1Adhokk\n\n\n\nSie schreien\, sie fühlen\, sie sind laut\, sie sind 1Adhokk aus Erfurt City! Am 12.7.24 kommt ihr erstes Tape in die Welt\, abonniert ihren Insta-Kanal instagram.com/1adhokk/\, um auf dem Laufenden zu bleiben. \n\n\n\n\n\n\n\n\n\n* NO NAZIS * NO SEXISTS * NO ANTISEMITES * NO SHIRT = NO SERVICE *\n\n\n\nWir dulden kein Merchandise von Bands aus dem rechten Spektrum. Beim Tragen von Merch einschlägiger Bands machen wir Gebrauch von unserem Hausrecht und der Zutritt zur Veranstaltung wird verweigert. Hier hilft dann auch kein diskutieren! Allgemein wünschen wir uns einen rücksichtsvollen Umgang miteinander\, damit wir gemeinsam eine gute Zeit haben. Solltet ihr ein Anliegen haben\, könnt ihr euch jederzeit an das Personal an der Tür oder an das Awareness-Team (wenn im Einsatz) wenden.
URL:https://www.boombatzeentertainment.de/event/adrats-dd-1adhokk-ef-tiko-erfurt/
LOCATION:AJZ Erfurt\, Vollbrachtstraße 1\, Erfurt\, Thüringen\, 99086\, Germany
CATEGORIES:Local shows
ATTACH;FMTTYPE=image/jpeg:https://www.boombatzeentertainment.de/wp-content/uploads/2024/06/adrats24-ajz-sharepic_1.jpg
END:VEVENT
END:VCALENDAR