BEGIN:VCALENDAR
VERSION:2.0
PRODID:-//Boombatze Entertainment - ECPv6.15.20//NONSGML v1.0//EN
CALSCALE:GREGORIAN
METHOD:PUBLISH
X-ORIGINAL-URL:https://www.boombatzeentertainment.de
X-WR-CALDESC:Veranstaltungen für Boombatze Entertainment
REFRESH-INTERVAL;VALUE=DURATION:PT1H
X-Robots-Tag:noindex
X-PUBLISHED-TTL:PT1H
BEGIN:VTIMEZONE
TZID:Europe/Berlin
BEGIN:DAYLIGHT
TZOFFSETFROM:+0100
TZOFFSETTO:+0200
TZNAME:CEST
DTSTART:20230326T010000
END:DAYLIGHT
BEGIN:STANDARD
TZOFFSETFROM:+0200
TZOFFSETTO:+0100
TZNAME:CET
DTSTART:20231029T010000
END:STANDARD
BEGIN:DAYLIGHT
TZOFFSETFROM:+0100
TZOFFSETTO:+0200
TZNAME:CEST
DTSTART:20240331T010000
END:DAYLIGHT
BEGIN:STANDARD
TZOFFSETFROM:+0200
TZOFFSETTO:+0100
TZNAME:CET
DTSTART:20241027T010000
END:STANDARD
BEGIN:DAYLIGHT
TZOFFSETFROM:+0100
TZOFFSETTO:+0200
TZNAME:CEST
DTSTART:20250330T010000
END:DAYLIGHT
BEGIN:STANDARD
TZOFFSETFROM:+0200
TZOFFSETTO:+0100
TZNAME:CET
DTSTART:20251026T010000
END:STANDARD
END:VTIMEZONE
BEGIN:VEVENT
DTSTART;TZID=Europe/Berlin:20240406T190000
DTEND;TZID=Europe/Berlin:20240406T230000
DTSTAMP:20260421T215012
CREATED:20231220T114525Z
LAST-MODIFIED:20250917T101445Z
UID:11827-1712430000-1712444400@www.boombatzeentertainment.de
SUMMARY:FOTOKILLER [B] + COLD SUMMER [LE] | Tiko Erfurt
DESCRIPTION:Sa 6.4.2024 | Doors 19Uhr | Start 20UhrCafé Tiko(lor) Erfurt\n\n\n\nFOTOKILLER [PostWavePunk | Berlin]\n\n\n\nBandcamp\n\nFacebook\n\nInstagram\n\nSpotify\n\nYouTube\n\n\n\nEin schier endloser\, reißender Mahlstrom\, der die Hörer*innen in die Tiefen der Vergangenheit hineinzieht und im nächsten Moment wieder ins Hier und Jetzt der manchmal nur schwer erträglichen Gegenwart schleudert. Der Sound der Berliner Band Fotokiller lässt klare Anleihen an die Post-Punk-Ära der 80er-Jahre deutlich werden\, ohne sich dabei lediglich nostalgisch-schwelgend in längst Dagewesenem zu verlieren. Existenzängste gegenüber der Zukunft\, Liebe – was sonst – und das Ringen um mentale Gesundheit in einem durch Effizienz geprägten Alltag zwischen Betonwänden sind die Themen hinter den Songs. Erhobenen Hauptes balanciert die Band dabei am Rande des alltäglichen Wahnsinns\, droht jeden Moment in den Abgrund ewiger Betrübnis zu rutschen\, nur\, um im nächsten Moment mit beharrlicher Kraft aus ebendiesem aufzutauchen und tanzend den Tücken und Missständen des Großstadtlebens die Stirn zu bieten. Nach dem Release des Demo-Tapes „Lenses“ im Dezember 2020\, erschien im Juli 2023 ihr Debut-Album „Eerie Nostalgia“. \n\n\n\nFrüher war Gitarristin und Sängerin Sofy mal bei den Garage Punks Trash Crawlers. Im vergangenen Dezember hat sie dann mit ihrer Riot-Grrrl-Band Fatigue Das Debütalbum “Precious Rage” veröffentlicht\, und nun präsentiert sie sich mit Fotokiller obendrein noch im Post-Punk-Gewand. Zusammen mit Bassist Damon und Schlagzeuger Kitty reproduziert sie den kühlen\, verhallten Sound der frühen 80er. Nur\, dass sich die Band optisch wesentlich bunter und nicht nur trüb in Schwarz/Weiß präsentiert. Der Inhalt des 7. Juli erschienenen Debütalbums von Fotokiller – “Eerie Nostalgia” – steht also im Kontrast zum farbenfrohen Cover. Das düstere West-Berlin und die britische Post-Punk-Isolation lassen im Inneren grüßen. [Quelle: Visions] \n\n\n\nCOLD SUMMER [Schlechtwetterpunk | LE]\n\n\n\nBandcamp\n\nInstagram\n\n\n\nRecht neue Band aus Leipzig mit ein paar alten Bekannten\, die schon seit Jahren in verschiedenen diy Punk/Hardcore Bands gespielt haben. Auf dem aktuellen Tape gibts 5x schnellen\, recht düsteren und melancholischen Schlechtwetterpunk mit Post-Punk-Kante und deutschen Texten. 5 Songs in knapp 15 Minuten und damit man nicht so oft umdrehen muss\, sind die 5 Song auf beiden Seiten des Tapes. [Quelle: It´s Eleven Records] \n\n\n\n* NO NAZIS * NO SEXISTS * NO ANTISEMITES * NO SHIRT = NO SERVICE *\n\n\n\nWir dulden kein Merchandise von Bands aus dem rechten Spektrum. Beim Tragen von Merch einschlägiger Bands machen wir Gebrauch von unserem Hausrecht und der Zutritt zur Veranstaltung wird verweigert. Hier hilft dann auch kein diskutieren! Allgemein wünschen wir uns einen rücksichtsvollen Umgang miteinander\, damit wir gemeinsam eine gute Zeit haben. Solltet ihr ein Anliegen haben\, könnt ihr euch jederzeit an das Personal an der Tür oder an das Awareness-Team (wenn im Einsatz) wenden.
URL:https://www.boombatzeentertainment.de/event/fotokiller-b-cold-summer-le-tiko-erfurt/
LOCATION:Café Tikolor (Ex-Tiko)\, Am Wenigemarkt 5a\, Erfurt\, Thüringen\, 99084\, Deutschland
CATEGORIES:Local shows
ATTACH;FMTTYPE=image/jpeg:https://www.boombatzeentertainment.de/wp-content/uploads/2023/12/fotokiller24-sharepic-neu_1.jpg
ORGANIZER;CN="Boombatze Entertainment":MAILTO:atze@boombatzeentertainment.de
END:VEVENT
BEGIN:VEVENT
DTSTART;TZID=Europe/Berlin:20240412T200000
DTEND;TZID=Europe/Berlin:20240412T233000
DTSTAMP:20260421T215012
CREATED:20230125T134607Z
LAST-MODIFIED:20250917T101436Z
UID:9786-1712952000-1712964600@www.boombatzeentertainment.de
SUMMARY:DIE SKEPTIKER | Café Tiko(lor) Erfurt
DESCRIPTION:Boombatze Entertainment\, ROCK * N * ROLL ~ SCHNAPS ~ JOCKEYS\, 7zoller.de & boombatze.media proudly present: \n\n\n\nDIE SKEPTIKER [Dada aus Berlin]\n\n\n\nInstagram\n\nFacebook\n\nSpotify\n\n\n\nKRÜMELMILCH [Punkrock | Erfurt] \n\n\n\nFacebook\n\nInstagram\n\nBandcamp\n\n\n\nFr 12.4.2024 | Doors 20Uhr | Start 21Uhr | Café Tiko(lor) Erfurt\n\n\n\nDas Konzert ist ausverkauft\, es wird keine Abendkasse geben!Ihr könnt aber gern im Tiko nachfragen\, ob es Rückläufer gibt oder ob Tickets umgetauscht wurden. \n\n\n\nEndlich haben wir einen Termin gefunden\, dass damals wie zu Erwarten super schnell ausverkaufte Skeptiker-Konzert anlässlich des 20. Tiko-Geburtstages nachzuholen. Eure Lieblings-Krämerpinte feiert das nun zum 24jährigen Bestehen nach und hat sich dafür natürlich wieder Die Skeptiker eingeladen! Es gelten natürlich die Tickets vom 3.4.2020. \n\n\n\nEs wird also eng\, laut & schön! \n\n\n\n* NO NAZIS * NO SEXISTS * NO ANTISEMITES * NO SHIRT = NO SERVICE *\n\n\n\nWir dulden kein Merchandise von Bands aus dem rechten Spektrum. Beim Tragen von Merch einschlägiger Bands machen wir Gebrauch von unserem Hausrecht und der Zutritt zur Veranstaltung wird verweigert. Hier hilft dann auch kein diskutieren! Allgemein wünschen wir uns einen rücksichtsvollen Umgang miteinander\, damit wir gemeinsam eine gute Zeit haben. Solltet ihr ein Anliegen haben\, könnt ihr euch jederzeit an das Personal an der Tür oder an das Awareness-Team (wenn im Einsatz) wenden.
URL:https://www.boombatzeentertainment.de/event/die-skeptiker-2/
LOCATION:Café Tikolor (Ex-Tiko)\, Am Wenigemarkt 5a\, Erfurt\, Thüringen\, 99084\, Deutschland
CATEGORIES:Local shows
ATTACH;FMTTYPE=image/jpeg:https://www.boombatzeentertainment.de/wp-content/uploads/2023/01/24Jahre-Tiko-sharepic_1.jpg
END:VEVENT
BEGIN:VEVENT
DTSTART;TZID=Europe/Berlin:20240413T200000
DTEND;TZID=Europe/Berlin:20240413T230000
DTSTAMP:20260421T215012
CREATED:20230125T134607Z
LAST-MODIFIED:20250917T101428Z
UID:9785-1713038400-1713049200@www.boombatzeentertainment.de
SUMMARY:DIE SKEPTIKER | VEB Kultur Erfurt
DESCRIPTION:Nachholtermin vom 7.10.23!Es ist vollbracht.🥳 Das Konzert ist restlos ausverkauft. Es wird keine Abendkasse geben. Vielleicht finden sich noch Rückläufer bei fansale.de Viel Glück 🍀\n\n\n\n\n\n\n\nBoombatze Entertainment proudly presents: \n\n\n\nDIE SKEPTIKER [Dada aus Berlin]\n\n\n\nInstagram\n\nFacebook\n\nSpotify\n\nYouTube\n\n\n\nVALY & THE VODKAS [KellerPunk | DD]\n\n\n\nFacebook\n\nInstagram\n\nBandcamp\n\nSpotify\n\n\n\nKRÜMELMILCH [Punkrock | Erfurt] \n\n\n\nFacebook\n\nInstagram\n\nBandcamp\n\n\n\nSa 13.4.2024 | Doors 20Uhr | Start 20.30UhrVEB KULTUR im Bandhaus Erfurt\n\n\n\n\nWie kommt ihr hin?\n\n\n\nDas Bandhaus Erfurt liegt in der Hugo-John-Straße 10 in Erfurt. Vom Nordbahnhof sind es keine 5 Minuten Fußweg. Die nächste Straßenbahn erwischst du an der Haltestelle Grubenstraße in gut 6 Minuten.  \n\n\n\nFalls wer wirklich mit dem Auto unterwegs sein sollte\, findet direkt vor dem Haus ausreichend Parkplätze. \n\n\n\n\nTICKETS online sichern! 👉 Es gibt Tickets online & an allen bekannten VVK-Stellen. \n\n\n\n\n\n\n\n\n\nWenn die Herren nun schon einmal in der Stadt sind\, können sie auch gleich nochmal ran. Die Show am Tag zuvor im Tiko ist ja nun etwas sehr exklusiv und damit alle ihre jährliche Dosis Skeptiker bekommen\, gibt es Eugen und Co. einen Tag später für alle im größeren Rahmen\, und zwar im VEB Kultur im Bandhaus Erfurt.  \n\n\n\nEin Lied geht um die Welt.\n\n\n\nBerlin\, 21. Dezember 2019. Kurz vor Ausbruch der Zwanziger Jahre\, kurz vor … der Pandemie. Eine Berliner Band spielt vor 1200 Leuten im ausverkauften Festsaal Kreuzberg. Es ist ein Geburtstagskonzert – das letzte und größte auf dieser Tour\, Bombenstimmung mit einem ausgelassenen wie textsicheren Publikum\, es wird aufgenommen\, in Bild und Ton. \n\n\n\nEin Lied\, das euch gefällt.\n\n\n\nJa\, ja\, ja: Es ist ein Jubiläumskonzert in dreifacher Hinsicht.Hier in Berlin öffnete sich 30 Jahre zuvor eine Mauer;60 Jahre zuvor erblickte Eugen Balanskat das Licht der Welt;da\, da in Berlin feiert das Doppel-Live-Album samt DVD beim Erscheinen in 2021 35 Jahre DIE SKEPTIKER. \n\n\n\nDie Melodie erreicht die Sterne.\n\n\n\nDIE SKEPTIKER\, 1986 in Ost-Berlin gegründet\, spielten und spielen energetischen\, elektrisierenden und euphorisierenden Punkrock mit klugen deutschen Texten. Konstante und einzig verbliebener Skeptiker der Gründungsformation ist der Sänger und Texter EUGEN BALANSKAT. Über Mitgliederwechsel und eine Bandpause (2000-2006)\, Alben und Touren\, Fährnisse des Lebens und gesellschaftlichen Wandel hinweg ist eines sicher: Die Band und ihr Sänger haben von ihrer emotionalen Wucht nichts verloren! \n\n\n\nWir reden über Haltung. Eine Haltung\, die konsequent und offen\, ernsthaft und überzeugend seit dreieinhalb Dekaden von DIE SKEPTIKER ausgeht: mit Unerschrockenheit\, Mut und Wut\, die Gesellschaft zersetzend vorwärts zu treiben. Hart und schnell im Rhythmus\, ernst und politisch im Auftreten\, lyrisch und intelligent im Text – bis heute Punkrock mit Stil und der unvergleichlichen Stimme unseres charismatischen Caruso-Punks Eugen. \n\n\n\nJeder von uns hört sie so gerne.\n\n\n\nDIE SKEPTIKER\, mit Frontmann Eugen Balanskat\, Matthias Stephan und Dominik Glöckner an den Gitarren\, Jacob Thauer am Bass und Wieland Wehr am Schlagzeug\, sind immer noch eine „andere Band“\, eine unverbrauchte\, zeitlose wie zeitgenössische Gruppe mit historischem Bewusstsein und eigenem Blick auf die „Zukunft“. Für die Geschichtsschreibung: Die Rede von den „Dead Kennedys des Ostens“ hat einen Schönheitsfehler – DIE SKEPTIKER könnten nie-niemals ihren Sänger austauschen! \n\n\n\nDas „Geburtstagsalbum“ feiert live die alten wie neuen Lieder von den ersten Aufnahmen bis zum letzten Album ab. Die Klassiker der frühen Tage sind frisch und gültig\, die neuen Werke knüpfen nahtlos daran an. Wir hören Eugen mit kraftvollem jugendlichem Zorn. Wir sehen Eugen im prächtigsten und farbenreichsten Bühnenoutfit seiner Karriere – mit reinem Herzblut! Wir fühlen und wissen: Es braucht diese Band. \n\n\n\nDas Lied bleibt Ewigkeit.\n\n\n\nWo Eugen singt\, wo DIE SKEPTIKER spielen\, da lass dich ruhig nieder. Komm tanzen! \n\n\n\nDr. Anne Blaudzun \n\n\n\n* NO NAZIS * NO SEXISTS * NO ANTISEMITES * NO SHIRT = NO SERVICE *\n\n\n\nWir dulden kein Merchandise von Bands aus dem rechten Spektrum. Beim Tragen von Merch einschlägiger Bands machen wir Gebrauch von unserem Hausrecht und der Zutritt zur Veranstaltung wird verweigert. Hier hilft dann auch kein diskutieren! Allgemein wünschen wir uns einen rücksichtsvollen Umgang miteinander\, damit wir gemeinsam eine gute Zeit haben. Solltet ihr ein Anliegen haben\, könnt ihr euch jederzeit an das Personal an der Tür oder an das Awareness-Team (wenn im Einsatz) wenden.
URL:https://www.boombatzeentertainment.de/event/die-skeptiker/
LOCATION:VEB Kultur\, Hugo-John-Straße 10\, Erfurt\, Th\, 99086\, Deutschland
CATEGORIES:Local shows
ATTACH;FMTTYPE=image/jpeg:https://www.boombatzeentertainment.de/wp-content/uploads/2024/02/Skeptiker24-sharepic_1.jpg
END:VEVENT
END:VCALENDAR