BEGIN:VCALENDAR
VERSION:2.0
PRODID:-//Boombatze Entertainment - ECPv6.15.20//NONSGML v1.0//EN
CALSCALE:GREGORIAN
METHOD:PUBLISH
X-WR-CALNAME:Boombatze Entertainment
X-ORIGINAL-URL:https://www.boombatzeentertainment.de
X-WR-CALDESC:Veranstaltungen für Boombatze Entertainment
REFRESH-INTERVAL;VALUE=DURATION:PT1H
X-Robots-Tag:noindex
X-PUBLISHED-TTL:PT1H
BEGIN:VTIMEZONE
TZID:Europe/Berlin
BEGIN:DAYLIGHT
TZOFFSETFROM:+0100
TZOFFSETTO:+0200
TZNAME:CEST
DTSTART:20230326T010000
END:DAYLIGHT
BEGIN:STANDARD
TZOFFSETFROM:+0200
TZOFFSETTO:+0100
TZNAME:CET
DTSTART:20231029T010000
END:STANDARD
BEGIN:DAYLIGHT
TZOFFSETFROM:+0100
TZOFFSETTO:+0200
TZNAME:CEST
DTSTART:20240331T010000
END:DAYLIGHT
BEGIN:STANDARD
TZOFFSETFROM:+0200
TZOFFSETTO:+0100
TZNAME:CET
DTSTART:20241027T010000
END:STANDARD
BEGIN:DAYLIGHT
TZOFFSETFROM:+0100
TZOFFSETTO:+0200
TZNAME:CEST
DTSTART:20250330T010000
END:DAYLIGHT
BEGIN:STANDARD
TZOFFSETFROM:+0200
TZOFFSETTO:+0100
TZNAME:CET
DTSTART:20251026T010000
END:STANDARD
END:VTIMEZONE
BEGIN:VEVENT
DTSTART;TZID=Europe/Berlin:20240202T190000
DTEND;TZID=Europe/Berlin:20240202T230000
DTSTAMP:20260422T005355
CREATED:20231202T130600Z
LAST-MODIFIED:20250917T101518Z
UID:11773-1706900400-1706914800@www.boombatzeentertainment.de
SUMMARY:THE MELMACS [LE/DD] + THE ROXIES [B] | Tiko Erfurt
DESCRIPTION:Fr 2.2.2024 | Doors 19Uhr | Start 20UhrCafé Tiko(lor) Erfurt\n\n\n\nTHE MELMACS [PowerPop-Punk | Dresden]\n\n\n\nBandcamp\n\nInstagram\n\nFacebook\n\nYouTube\n\nSpotify\n\n\n\nThe Melmacs aus Leipzig und Dresden spielen feinsten PowerPopPunk bis das Fett brennt mit ZackZack-Gitarren\, ZippZipp-Keyboard\, PowPow-Drums und Kawumm-Bass: Ein gar mächtiges Potpourri\, das einem superfies und supersonnig in den Rücken fällt und allen Zuhörer*innen blitzartig den Schmalz aus den Ohren zutscht. Dabei bewegen sich Ihre Einflüsse irgendwo zwischen gutem Wetter\, Katzen und der weltbesten Calzone. Alles klar? Dann willkommen auf dem Planeten Melmac! \n\n\n\nTHE ROXIES [IndiePunkRock | Berlin]\n\n\n\nBandcamp\n\nFacebook\n\nInstagram\n\nSpotify\n\nYouTube\n\n\n\nThe Roxies sind eine Band aus Berlin\, ihr Sänger Matthew kommt ursprünglich aus Yorkshire\, England.Er lernte den Rest der Band 2018 durch einen Flyer in einer Kreuzberger Spelunke kennen. Seitdem haben sie einen Haufen Songs geschrieben und ihre unterschiedlichen musikalischen Vorlieben zusammengebracht. Musikalisch werden Einflüsse aus ’77er Punk Rock\, Garage\, Post Punk\, Power Pop verknüpft und inhaltlich viel Liebe versprüht. Liebestrunken und smarter Beat als Symbiose für Punk und Pop\, beeinflusst von Bands wie den Beatles\, den Rolling Stones\, Velvet Underground\, den New York Dolls und den Ramones. Musik aus einer Ära\, als gleichförmige und homogene Beatmusik und Punkrock überschwängliche Momente auslösten. „Blue“ taucht als letzter Song ein in die bewusstseinserweiternden Ebenen der 70’s Wah Wah-Blues-Rock-Verrücktheiten und auch „Filmriss“ bedient einen schwülstig-groovenden Calypso-Sound\, um den ansonsten dominierenden Rock and Roll-Interpretationen als rebellische Wahrnehmung auszuschmücken\, bei der du dich nicht zu alt fühlst\, um auf der Tanzfläche zu beeindrucken. [Quelle: Underdog Fanzine] \n\n\n\n* NO NAZIS * NO SEXISTS * NO ANTISEMITES * NO SHIRT = NO SERVICE *\n\n\n\nWir dulden kein Merchandise von Bands aus dem rechten Spektrum. Beim Tragen von Merch einschlägiger Bands machen wir Gebrauch von unserem Hausrecht und der Zutritt zur Veranstaltung wird verweigert. Hier hilft dann auch kein diskutieren! Allgemein wünschen wir uns einen rücksichtsvollen Umgang miteinander\, damit wir gemeinsam eine gute Zeit haben. Solltet ihr ein Anliegen haben\, könnt ihr euch jederzeit an das Personal an der Tür oder an das Awareness-Team (wenn im Einsatz) wenden.
URL:https://www.boombatzeentertainment.de/event/the-melmacs-le-dd-the-roxies-b-tiko-erfurt/
LOCATION:Café Tikolor (Ex-Tiko)\, Am Wenigemarkt 5a\, Erfurt\, Thüringen\, 99084\, Deutschland
ATTACH;FMTTYPE=image/jpeg:https://www.boombatzeentertainment.de/wp-content/uploads/2023/12/FLYER_Roxies_Melmacs_Tiko_insta_quadrat_W_BE.jpg
ORGANIZER;CN="Boombatze Entertainment":MAILTO:atze@boombatzeentertainment.de
END:VEVENT
BEGIN:VEVENT
DTSTART;TZID=Europe/Berlin:20240223T190000
DTEND;TZID=Europe/Berlin:20240223T230000
DTSTAMP:20260422T005355
CREATED:20231219T135740Z
LAST-MODIFIED:20250917T101507Z
UID:11815-1708714800-1708729200@www.boombatzeentertainment.de
SUMMARY:FRIEDEMANN [RÜG] | Tiko Erfurt
DESCRIPTION:FRIEDEMANN [Insel Rügen]\n\n\n\nBandcamp\n\nFacebook\n\nInstagram\n\nSpotify\n\nYouTube\n\n\n\nFr 23.2.2024 | Doors 19Uhr | Start 20UhrCafé Tiko(lor) Erfurt\n\n\n\nHier gibts Tickets oder direkt im Tiko selbst.\n\n\n\nAm Anfang jeder neuen Tour und Platte steht das natürliche Verlangen der Veranstalter\, Journalisten und des (hoffentlich) neugierigen Musikliebhabers nach einer Kurzbeschreibung des Künstlers und seines Werkes. \n\n\n\nDas bleibt dieses Mal an mir direkt hängen und ich erkenne wie schwer es ist\, sich selbst kurz und knackig zu beschreiben. \n\n\n\nWas soll ich über mich sagen? \n\n\n\nIch liebe Musik\, sie begleitet mich seit ich denken kann und selbst auf Tour als Musiker in den verschiedensten Bands als Schlagzeuger\, Sänger und Gitarrist bin ich seit 1991. \n\n\n\nQuer durch den deutschsprachigen Raum und nach Polen\, in die Tschechoslowakei\, nach Ungarn\, Frankreich\, Dänemark und Kuba führten mich meine musikalischen Ausflüge. \n\n\n\nImmer auf der Suche\, immer auf der Reise hin zu den Orten an denen Gleichgesinnte\, Musikliebhaber und Weltverbesserer zu Hause sind. \n\n\n\nSeit ein paar Jahren bin ich nun mit meinem Soloprogramm unterwegs. Von außen betrachtet mache ich klassische Singer – Songwriter Sachen. Manch einer würde sagen deutschsprachige Geschichtenerzähler-Musik. Das ist wohl auch die Wahrheit. \n\n\n\nIch\, meine Gitarre\, ein paar Soundspielereien\, ein wenig Rhythmus und viele schräge Ideen. \n\n\n\nIch erzähle aus meinem Leben und dem Leben der vielen Menschen die ich treffen und begleiten durfte. Singe von verschiedenen Wegen zum Glück\, vom sich verlieren im Dunkeln\, vom Auferstehen und vom Vergehen. Vom Kreislauf des Seins. \n\n\n\nNicht immer weise und durchdacht\, immer ohne den Anspruch allwissend und der Nabel der Welt zu sein\, manchmal auch polemisch und rau\, mit Humor und einem Lacher über mich selbst garniert und bereit in einen spannenden und entspannten Gedankenaustausch mit meinen Zuhörern zu treten. \n\n\n\nSeit 2014 habe ich 4 Studio- und 2 Livealben herausgebracht\, von denen ich allabendlich einen guten Querschnitt gespickt mit der einen oder anderen Coverversion von mir wichtigen Künstlern spiele. \n\n\n\nDas kann ich über mich sagen und dass ich mich auf jeden guten Abend freue!  \n\n\n\nFriedemann \n\n\n\n* NO NAZIS * NO SEXISTS * NO ANTISEMITES * NO SHIRT = NO SERVICE *\n\n\n\nWir dulden kein Merchandise von Bands aus dem rechten Spektrum. Beim Tragen von Merch einschlägiger Bands machen wir Gebrauch von unserem Hausrecht und der Zutritt zur Veranstaltung wird verweigert. Hier hilft dann auch kein diskutieren! Allgemein wünschen wir uns einen rücksichtsvollen Umgang miteinander\, damit wir gemeinsam eine gute Zeit haben. Solltet ihr ein Anliegen haben\, könnt ihr euch jederzeit an das Personal an der Tür oder an das Awareness-Team (wenn im Einsatz) wenden.
URL:https://www.boombatzeentertainment.de/event/friedemann-tiko-erfurt/
LOCATION:Café Tikolor (Ex-Tiko)\, Am Wenigemarkt 5a\, Erfurt\, Thüringen\, 99084\, Deutschland
CATEGORIES:Local shows
ATTACH;FMTTYPE=image/jpeg:https://www.boombatzeentertainment.de/wp-content/uploads/2023/12/friedemann24-sharepic_1.jpg
ORGANIZER;CN="Boombatze Entertainment":MAILTO:atze@boombatzeentertainment.de
END:VEVENT
END:VCALENDAR