BEGIN:VCALENDAR
VERSION:2.0
PRODID:-//Boombatze Entertainment - ECPv6.15.20//NONSGML v1.0//EN
CALSCALE:GREGORIAN
METHOD:PUBLISH
X-ORIGINAL-URL:https://www.boombatzeentertainment.de
X-WR-CALDESC:Veranstaltungen für Boombatze Entertainment
REFRESH-INTERVAL;VALUE=DURATION:PT1H
X-Robots-Tag:noindex
X-PUBLISHED-TTL:PT1H
BEGIN:VTIMEZONE
TZID:Europe/Berlin
BEGIN:DAYLIGHT
TZOFFSETFROM:+0100
TZOFFSETTO:+0200
TZNAME:CEST
DTSTART:20230326T010000
END:DAYLIGHT
BEGIN:STANDARD
TZOFFSETFROM:+0200
TZOFFSETTO:+0100
TZNAME:CET
DTSTART:20231029T010000
END:STANDARD
BEGIN:DAYLIGHT
TZOFFSETFROM:+0100
TZOFFSETTO:+0200
TZNAME:CEST
DTSTART:20240331T010000
END:DAYLIGHT
BEGIN:STANDARD
TZOFFSETFROM:+0200
TZOFFSETTO:+0100
TZNAME:CET
DTSTART:20241027T010000
END:STANDARD
BEGIN:DAYLIGHT
TZOFFSETFROM:+0100
TZOFFSETTO:+0200
TZNAME:CEST
DTSTART:20250330T010000
END:DAYLIGHT
BEGIN:STANDARD
TZOFFSETFROM:+0200
TZOFFSETTO:+0100
TZNAME:CET
DTSTART:20251026T010000
END:STANDARD
END:VTIMEZONE
BEGIN:VEVENT
DTSTART;TZID=Europe/Berlin:20240120T190000
DTEND;TZID=Europe/Berlin:20240120T230000
DTSTAMP:20260422T021901
CREATED:20230904T180623Z
LAST-MODIFIED:20250917T101535Z
UID:11213-1705777200-1705791600@www.boombatzeentertainment.de
SUMMARY:WAUMIAU [Düsseldorf] + NO°RD [Münster/Dortmund] | Café Tiko(lor) Erfurt
DESCRIPTION:WAUMIAU [Punk | Düsseldorf]\n\n\n\nBandcamp\n\nInstagram\n\nFacebook\n\nSpotify\n\n\n\nNO°RD [Münster/Dortmund | Kidnap Music]\n\n\n\nBandcamp\n\nInstagram\n\nFacebook\n\nSpotify\n\n\n\nSamstag 20.1.2024 | Doors 19Uhr | Start 20Uhr | Café Tiko(lor)\n\n\n\nWAUMIAU\n\n\n\nZwölf Songs in zwölf Sätzen einfach erklärt. Aus dem Proberaum ohne große Produktion auf die Platte.Vier Leute\, fällt manchmal gar nicht auf.Keine Ballerband\, nur weil ein Song irgendwas mit „Bier“ heißt.Wollten erst nur Demo machen\, ist dann aber schon ganz gut geworden. Punk aus Düsseldorf.Immer nur Parolen\, immer nur dagegen. Gegen Stress\, Arbeit\, Sexismus\, Spießer\, Gesellschaft\, ganze Welt\, Bausparen\, Börse\, Bundeswehr\, am Rastplatz kein Bier mit Sanifair-Bons bezahlen können.Lustige Sample-Schnipsel mit doofen Zitaten.Sympathische Krawallmusik.Kleines Nebenprojekt.Große Zukunft unwahrscheinlich. \n\n\n\n\n\n\n\nNO°RD \n\n\n\nFünf Jahre ist es her\, dass NO°RD aus Münster und Dortmund ihr letztes Album veröffentlichten. Schon damals sah es nicht gut aus für die Welt\, in der wir leben\, und schon damals wurde gesungen über Einsamkeit\, Klassenkampf und die Abgründe von Männlichkeit. Und nun? „Böse Wetter“: toxische Atmosphäre allüberall\, das bittere Ende nah\, aber immer noch Bock auf Punk – so einfach ist das. Also rein ins Studio\, diesmal größer und professioneller: Im Heavy Kranich direkt um die Ecke nehmen NO°RD die Produzentendienste des DONOTS-Teams aus Phil Meyer-Wien\, Guido Knollmann und Jan-Dirk “Purgen” Poggemann und in Anspruch und feilen akribisch an Sounds\, Effekten und den Songs an sich\, bis diese endlich ein Gewand erhalten\, das ihnen gerecht wird. Denn NO°RD sind nicht nur älter geworden\, sondern auch kompositorisch gereift: Ohne ihre Wurzeln zu verleugnen und auch nur einen Deut an Bitterkeit zu verlieren\, streckt man die Fühler in Richtung Pop aus und lässt das Elend der Welt nun in hellerem Licht erstrahlen als zuvor; denn was man abschaffen soll\, muss man erkennen können. \n\n\n\n* NO NAZIS * NO SEXISTS * NO ANTISEMITES * NO SHIRT = NO SERVICE *\n\n\n\nWir dulden kein Merchandise von Bands aus dem rechten Spektrum. Beim Tragen von Merch einschlägiger Bands machen wir Gebrauch von unserem Hausrecht und der Zutritt zur Veranstaltung wird verweigert. Hier hilft dann auch kein diskutieren! Allgemein wünschen wir uns einen rücksichtsvollen Umgang miteinander\, damit wir gemeinsam eine gute Zeit haben. Solltet ihr ein Anliegen haben\, könnt ihr euch jederzeit an das Personal an der Tür oder an das Awareness-Team (wenn im Einsatz) wenden.
URL:https://www.boombatzeentertainment.de/event/waumiau-duesseldorf-nord-muenster-dortmund-cafe-tikolor-erfurt/
LOCATION:Café Tikolor (Ex-Tiko)\, Am Wenigemarkt 5a\, Erfurt\, Thüringen\, 99084\, Deutschland
CATEGORIES:Local shows
ATTACH;FMTTYPE=image/jpeg:https://www.boombatzeentertainment.de/wp-content/uploads/2023/09/waumiau24-sharepic_1.jpg
END:VEVENT
BEGIN:VEVENT
DTSTART;TZID=Europe/Berlin:20240126T190000
DTEND;TZID=Europe/Berlin:20240126T230000
DTSTAMP:20260422T021901
CREATED:20231102T114734Z
LAST-MODIFIED:20250917T101525Z
UID:11546-1706295600-1706310000@www.boombatzeentertainment.de
SUMMARY:BUBONIX [D] + TERRORTANTEN [J] + KINDERGARTEN IM EXIL [J] | AJZ Erfurt
DESCRIPTION:Boombatze Entertainment & 7zoller.de proudly present: \n\n\n\nBUBONIX [HardcorePunkRock | D]\n\n\n\nInstagram\n\nBandcamp\n\nSpotify\n\nFacebook\n\n\n\nTERRORTANTEN [Mesh-Punk | Jena]\n\n\n\nInstagram\n\n\n\nKINDERGARTEN.IM.EXIL [Punkrock | Jena]\n\n\n\nInstagram\n\n\n\nFr 26.1.2024 | Doors 19Uhr | Start 20UhrAJZ Erfurt\n\n\n\nAlte Straßenköter-Weisheit: Die besten Partys sind immer die\, zu denen man nicht eingeladen ist. Man braucht sich keine Gedanken um die Abendgarderobe zu machen\, hat außer einem halbvollen\, abgestandenen Wegbier nix in der Hand\, was als Mitbringsel herhalten könnte\, bedient sich gleichwohl mit absoluter Selbstverständlichkeit am Schnapsregal des Gastgebers\, hinterlässt als Überraschung für den Tag danach eine Stange Mittelstrahl im Zahnputzbecher und tanzt vor allen Dingen möglichst auf allen Tischen so\, dass man immer mit dem Kopf voran in der Hochzeitsbowle landet. Die Zuschauer sollen sich schließlich an diesen wunderschönen Abend erinnern können. Möglichst für immer. BUBONIX aus Limburg machen das\, um das oben skizzierte Wedding-Crasher-Prozedere mal durch die Subkultur-Szene-3D-Brille mit einer Tüte Popcorn in der Hand anzuschauen\, seit Jahren nicht anders. Jene bandgewordene Voodoo-Zeremonie des Punk und Hardcore um Sänger und Vorzeige-Wildsau Thorsten Polomski hat eigentlich immer schon auf jeder Party den größten Eindruck hinterlassen\, und das obwohl (oder aber eben gerade weil) sie eigentlich nie und nirgendwo so richtig reingepasst hat. Das war schon auf alten Scheiben wie „Please\, Devil Send Me Golden Hair“ oder dem letzten Album „Capsaicin“ der Band vor gut 15 Jahren nicht anders. Und jene wunderbar unbedarfte Assitüde treibt die frisch reunierte\, um zwei alte Bandmitglieder geschrumpfte Combo (Sarah De Castro und Nenad Grbavac) auf ihrem neuen Album „Through The Eyes“ so sehr auf die Spitze\, dass man mit debilem Grinsen und ungläubigem Kopfschütteln vor dem Plattenspieler hockt und die HC-Punk-Referenz-Synapsen im Kopf so wild flackern und blinken wie die Weihnachtsbeleuchtung auf einer Front Porch irgendwo in Texas. Welcome back\, BUBONI _ ach nee: FUCK LOVE\, MAKE VIOLENCE TO ÄRSCHE! (Ingo Donot)
URL:https://www.boombatzeentertainment.de/event/bubonix-d-ajz-erfurt/
LOCATION:AJZ Erfurt\, Vollbrachtstraße 1\, Erfurt\, Thüringen\, 99086\, Germany
CATEGORIES:Local shows
ATTACH;FMTTYPE=image/jpeg:https://www.boombatzeentertainment.de/wp-content/uploads/2023/11/bubonix24-sharepic_1-1.jpg
ORGANIZER;CN="Boombatze Entertainment":MAILTO:atze@boombatzeentertainment.de
END:VEVENT
END:VCALENDAR