BEGIN:VCALENDAR
VERSION:2.0
PRODID:-//Boombatze Entertainment - ECPv6.15.20//NONSGML v1.0//EN
CALSCALE:GREGORIAN
METHOD:PUBLISH
X-WR-CALNAME:Boombatze Entertainment
X-ORIGINAL-URL:https://www.boombatzeentertainment.de
X-WR-CALDESC:Veranstaltungen für Boombatze Entertainment
REFRESH-INTERVAL;VALUE=DURATION:PT1H
X-Robots-Tag:noindex
X-PUBLISHED-TTL:PT1H
BEGIN:VTIMEZONE
TZID:Europe/Berlin
BEGIN:DAYLIGHT
TZOFFSETFROM:+0100
TZOFFSETTO:+0200
TZNAME:CEST
DTSTART:20240331T010000
END:DAYLIGHT
BEGIN:STANDARD
TZOFFSETFROM:+0200
TZOFFSETTO:+0100
TZNAME:CET
DTSTART:20241027T010000
END:STANDARD
BEGIN:DAYLIGHT
TZOFFSETFROM:+0100
TZOFFSETTO:+0200
TZNAME:CEST
DTSTART:20250330T010000
END:DAYLIGHT
BEGIN:STANDARD
TZOFFSETFROM:+0200
TZOFFSETTO:+0100
TZNAME:CET
DTSTART:20251026T010000
END:STANDARD
BEGIN:DAYLIGHT
TZOFFSETFROM:+0100
TZOFFSETTO:+0200
TZNAME:CEST
DTSTART:20260329T010000
END:DAYLIGHT
BEGIN:STANDARD
TZOFFSETFROM:+0200
TZOFFSETTO:+0100
TZNAME:CET
DTSTART:20261025T010000
END:STANDARD
END:VTIMEZONE
BEGIN:VEVENT
DTSTART;TZID=Europe/Berlin:20251128T190000
DTEND;TZID=Europe/Berlin:20251128T230000
DTSTAMP:20260420T142300
CREATED:20250512T132420Z
LAST-MODIFIED:20251020T143402Z
UID:14618-1764356400-1764370800@www.boombatzeentertainment.de
SUMMARY:CHRISTMAS [Saarland] + THIRTEEN STITCHES [EF] | Café Tikolor Erfurt
DESCRIPTION:>>> Hier schnell zu den Tickets <<<\n\n\n\nCHRISTMAS [HC Punk | Kidnap Music | Sankt Wendel]\n\n\n\nInstagram\n\nYouTube\n\nBandcamp\n\nFacebook\n\nSpotify\n\nTikTok\n\n\n\nTHIRTEEN STITCHES [Punkrock | EF]\n\n\n\nInstagram\n\nSpotify\n\nSoundCloud\n\nYouTube\n\nBandcamp\n\n\n\nWegen des Thüringenderbys beginnen wir erst 22 Uhr!\n\n\n\nFr 28.11.2025 | Doors 19Uhr | Start 22UhrCafé Tiko(lor) Erfurt\n\n\n\nFrüher war vielleicht vieles besser – aber ganz sicher nicht CHRISTMAS. Denn während andere Bands kommen und gehen\, sind CHRISTMAS Jahr für Jahr unaufhaltsamer geworden. Wo andere schnell verglühen\, haben CHRISTMAS beschlossen\, einfach alle Arschlöcher zu überleben. \n\n\n\nMit Erfolg: 20 Veröffentlichungen in 14 Jahren\, 550 Shows in 18 Ländern und 21 verschlissene Ex-Mitglieder sprechen eine deutliche Sprache. Der Hardcore-Zug rollt weiter – gepanzert mit Tonnen von Kronkorken und angetrieben von einem alles verzehrenden Wahnsinnsidealismus (mit besonderer Betonung auf Wahnsinn).Stets mit einem dämonischen Grinsen im Gesicht trotzen sie dem scheinbar toten Geist des Rock’n’Roll\, tanzen am Abgrund der Nachpunk-Geschichte entlang – und sehen dabei auch noch verdammt gut aus. \n\n\n\n\n\n\n\nEinfache Musik von einfachen Leuten: Unter völliger Ignoranz der musikalischen Entwicklungen der letzten 25 Jahre spielen THIRTEEN STITCHES Punkrock im Sinne der 90er. Bands wie Pennywise\, Bad Religion oder Blink 182 müssen dabei unfreiwillig als Vorbilder herhalten. Immer streng nach dem Motto „zwei Minuten Vollgas\, repeat“ wird auf langatmige Intros und sonstige Ego-Streicheleien verzichtet. Einen Song zum Verschnaufen sucht man auf der Setlist dieser Band ebenfalls vergeblich\, statt dessen gibt es reichlich Gelegenheiten zum Springen und im Kreis rennen. \n\n\n\n\n\n\n\n\n\n* NO NAZIS * NO SEXISTS * NO ANTISEMITES * NO SHIRT = NO SERVICE *\n\n\n\nWir dulden kein Merchandise von Bands aus dem rechten Spektrum. Beim Tragen von Merch einschlägiger Bands machen wir Gebrauch von unserem Hausrecht und der Zutritt zur Veranstaltung wird verweigert. Hier hilft dann auch kein diskutieren! Allgemein wünschen wir uns einen rücksichtsvollen Umgang miteinander\, damit wir gemeinsam eine gute Zeit haben. Solltet ihr ein Anliegen haben\, könnt ihr euch jederzeit an das Personal an der Tür oder an das Awareness-Team (wenn im Einsatz) wenden. \n\n\n\n\n\n\n\n\n\n\n\n\n\nTickets\n\n\n\nTickets auch auf thuGO.de erhältlich
URL:https://www.boombatzeentertainment.de/event/christmas-saarland-cafe-tikolor-erfurt/
LOCATION:Café Tikolor (Ex-Tiko)\, Am Wenigemarkt 5a\, Erfurt\, Thüringen\, 99084\, Deutschland
CATEGORIES:Café Tikolor,Erfurt,Local shows
ATTACH;FMTTYPE=image/webp:https://www.boombatzeentertainment.de/wp-content/uploads/2025/05/christmas25-sharepic_1-2.webp
END:VEVENT
END:VCALENDAR