BEGIN:VCALENDAR
VERSION:2.0
PRODID:-//Boombatze Entertainment - ECPv6.15.20//NONSGML v1.0//EN
CALSCALE:GREGORIAN
METHOD:PUBLISH
X-WR-CALNAME:Boombatze Entertainment
X-ORIGINAL-URL:https://www.boombatzeentertainment.de
X-WR-CALDESC:Veranstaltungen für Boombatze Entertainment
REFRESH-INTERVAL;VALUE=DURATION:PT1H
X-Robots-Tag:noindex
X-PUBLISHED-TTL:PT1H
BEGIN:VTIMEZONE
TZID:Europe/Berlin
BEGIN:DAYLIGHT
TZOFFSETFROM:+0100
TZOFFSETTO:+0200
TZNAME:CEST
DTSTART:20240331T010000
END:DAYLIGHT
BEGIN:STANDARD
TZOFFSETFROM:+0200
TZOFFSETTO:+0100
TZNAME:CET
DTSTART:20241027T010000
END:STANDARD
BEGIN:DAYLIGHT
TZOFFSETFROM:+0100
TZOFFSETTO:+0200
TZNAME:CEST
DTSTART:20250330T010000
END:DAYLIGHT
BEGIN:STANDARD
TZOFFSETFROM:+0200
TZOFFSETTO:+0100
TZNAME:CET
DTSTART:20251026T010000
END:STANDARD
BEGIN:DAYLIGHT
TZOFFSETFROM:+0100
TZOFFSETTO:+0200
TZNAME:CEST
DTSTART:20260329T010000
END:DAYLIGHT
BEGIN:STANDARD
TZOFFSETFROM:+0200
TZOFFSETTO:+0100
TZNAME:CET
DTSTART:20261025T010000
END:STANDARD
END:VTIMEZONE
BEGIN:VEVENT
DTSTART;TZID=Europe/Berlin:20250524T190000
DTEND;TZID=Europe/Berlin:20250524T233000
DTSTAMP:20260420T235912
CREATED:20241106T101241Z
LAST-MODIFIED:20250917T100947Z
UID:13124-1748113200-1748129400@www.boombatzeentertainment.de
SUMMARY:KODDER [Rügen] + TV MOMS [USA] | Tiko Erfurt
DESCRIPTION:>>> Hier schnell zu den Tickets <<<\n\n\n\nKODDER [Rügen\, Ex-COR]\n\n\n\nInstagram\n\nFacebook\n\nSpotify\n\nYouTube\n\n\n\nTV MOMS [Gutter-Rock’n’Roll | USA]\n\n\n\nInstagram\n\nBandcamp\n\nFacebook\n\nSpotify\n\nYouTube\n\nBluesky\n\n\n\nSa 24.5.2025 | Doors 19Uhr | Start 20UhrCafé Tiko(lor) Erfurt\n\n\n\nKODDER kommt!\n\n\n\nCOR sind nach 22 Geschichte und mit KODDER kommt jetzt das neue Punkrock-Trio um Sänger und Gitarrist Friedemann. Komplettiert wird das ganze durch Steffi (Bass / Gesang) und Arthur am Schlagzeug. Und der mit COR eingeschlagene Weg aus Kompromisslosigkeit und Schärfe in der Musik und in den Texten wird gnadenlos weiterverfolgt. Mehr Punk\, mehr Dreck\, mehr „Scheiß drauf“ beschreibt den eingeschlagenen Weg von KODDER im Vergleich zu den letzten COR Platten. \n\n\n\nAm 6.9.24 erschien die erste Single bzw. das erste Video zum Song „KODDER“ und als Vorgeschmack auf die im Frühjahr 2025 via Weird Sounds Records erscheinende Debut-LP gibt es ab November 2024 die 3 Song EP „Ihr kotzt mich an! Ich kotz mich aus!“ limitiert auf 333 Stück mit Bandlogo – Etching auf der B Seite. \n\n\n\nUnd am 24. Mai 2025 live im Tiko Erfurt! \n\n\n\nTV MOMS sind eine laute dreiköpfige Gutter-Rock’n’Roll-Band aus New York City.Okay\, nicht alle Songs sind laut. Es gibt Gesang\, aber ohne große Stimmakrobatik. Bummer Rock? Vielleicht – aber mit mehr Sarkasmus. Riffbasierte Gitarrenparts\, die richtig Spaß machen zu spielen\, selbst wenn man nicht oft Gitarre spielt. \n\n\n\n\n\n\n\n\n\n* NO NAZIS * NO SEXISTS * NO ANTISEMITES * NO SHIRT = NO SERVICE *\n\n\n\nWir dulden kein Merchandise von Bands aus dem rechten Spektrum. Beim Tragen von Merch einschlägiger Bands machen wir Gebrauch von unserem Hausrecht und der Zutritt zur Veranstaltung wird verweigert. Hier hilft dann auch kein diskutieren! Allgemein wünschen wir uns einen rücksichtsvollen Umgang miteinander\, damit wir gemeinsam eine gute Zeit haben. Solltet ihr ein Anliegen haben\, könnt ihr euch jederzeit an das Personal an der Tür oder an das Awareness-Team (wenn im Einsatz) wenden. \n\n\n\n\n\n\n\n\n\n\n\n\n\nTickets
URL:https://www.boombatzeentertainment.de/event/kodder-ruegen-tiko-erfurt/
LOCATION:Café Tikolor (Ex-Tiko)\, Am Wenigemarkt 5a\, Erfurt\, Thüringen\, 99084\, Deutschland
CATEGORIES:Café Tikolor,Erfurt,Local shows
ATTACH;FMTTYPE=image/webp:https://www.boombatzeentertainment.de/wp-content/uploads/2024/11/kodder25-sharepic_5.webp
ORGANIZER;CN="Boombatze Entertainment":MAILTO:atze@boombatzeentertainment.de
END:VEVENT
END:VCALENDAR