BEGIN:VCALENDAR
VERSION:2.0
PRODID:-//Boombatze Entertainment - ECPv6.15.20//NONSGML v1.0//EN
CALSCALE:GREGORIAN
METHOD:PUBLISH
X-WR-CALNAME:Boombatze Entertainment
X-ORIGINAL-URL:https://www.boombatzeentertainment.de
X-WR-CALDESC:Veranstaltungen für Boombatze Entertainment
REFRESH-INTERVAL;VALUE=DURATION:PT1H
X-Robots-Tag:noindex
X-PUBLISHED-TTL:PT1H
BEGIN:VTIMEZONE
TZID:Europe/Berlin
BEGIN:DAYLIGHT
TZOFFSETFROM:+0100
TZOFFSETTO:+0200
TZNAME:CEST
DTSTART:20240331T010000
END:DAYLIGHT
BEGIN:STANDARD
TZOFFSETFROM:+0200
TZOFFSETTO:+0100
TZNAME:CET
DTSTART:20241027T010000
END:STANDARD
BEGIN:DAYLIGHT
TZOFFSETFROM:+0100
TZOFFSETTO:+0200
TZNAME:CEST
DTSTART:20250330T010000
END:DAYLIGHT
BEGIN:STANDARD
TZOFFSETFROM:+0200
TZOFFSETTO:+0100
TZNAME:CET
DTSTART:20251026T010000
END:STANDARD
BEGIN:DAYLIGHT
TZOFFSETFROM:+0100
TZOFFSETTO:+0200
TZNAME:CEST
DTSTART:20260329T010000
END:DAYLIGHT
BEGIN:STANDARD
TZOFFSETFROM:+0200
TZOFFSETTO:+0100
TZNAME:CET
DTSTART:20261025T010000
END:STANDARD
END:VTIMEZONE
BEGIN:VEVENT
DTSTART;TZID=Europe/Berlin:20250305T190000
DTEND;TZID=Europe/Berlin:20250305T233000
DTSTAMP:20260421T030510
CREATED:20240830T100000Z
LAST-MODIFIED:20250917T101147Z
UID:12573-1741201200-1741217400@www.boombatzeentertainment.de
SUMMARY:CAVA [Berlin] + LAD PETE [EF] | Café Tiko(lor) Erfurt
DESCRIPTION:Boombatze Entertainment\, ROCK * N * ROLL ~ SCHNAPS ~ JOCKEYS\, 7zoller.de & boombatze.media proudly present: \n\n\n\nCAVA [GaragePunkrockDuo | Berlin]\n\n\n\nInstagram\n\nSpotify\n\nBandcamp\n\nYouTube\n\n\n\nLAD PETE [Powerful Rock Duo | Erfurt]\n\n\n\nBandcamp\n\nInstagram\n\nFacebook\n\nSpotify\n\nYouTube\n\n\n\nMittwoch 5.3.2025 | Doors 19Uhr | Start 20UhrCafé Tiko(lor) Erfurt\n\n\n\nTICKETS online sichern! 👉 Ansonsten gibt es wieder welche im Tiko selbst\, online & an allen bekannten VVK-Stellen. \n\n\n\nCAVA \n\n\n\nDas Berliner Garage-Duo CAVA ist nach ihrem im Frühjahr 2023 erschienenen Debütalbum „Damage Control“ und unzähligen Shows zurück – und wie! \n\n\n\nAm 15. November erscheint ihr zweites Album „Powertrip“ mit 14 neuen Songs\, die zeigen\, was die Band\, bestehend aus Peppi Ahrens und Mela Schulz am besten kann: Fuzz\, Distortion\, energetische Drums\, schnelle und zielstrebige Kampfansagen an Patriarchat\, Klassismus und Kapitalismus. \n\n\n\nDie erste Single „Crashing“ stellt das eindrücklich unter Beweis. Der Song thematisiert das Gefühl nicht gehört und nicht verstanden zu werden und ist dafür extra laut! \n\n\n\nNach dem Albumrelease geht es im nächsten Jahr auf ausführliche „Powertrip“-Tour durch Deutschland\, Österreich und die Schweiz – der VVK startet jetzt! \n\n\n\nTourpräsentatoren: ByteFM\, Rausgegangen & Plastic Bomb Fanzine \n\n\n\nInspiriert von legendären Acts wie Oasis\, Nirvana\, The Ramones und den energiegeladenen The Who liefert das Duo LAD PETE einen frischen Mix aus klassischem Rock und Oldschool-Punk.Dabei lassen sich hin und wieder auch Einflüsse aus Folk und Country heraushören\, doch im Mittelpunkt stehen stets Authentizität und Attitude.Hookreiche\, poporientierte Songs verschmelzen mit einem wilden\, oft rauen Livesound\, der kaum vermuten lässt\, dass nur zwei Musiker dahinterstecken. Mit E-Gitarre\, Schlagzeug und zweistimmigem Gesang rockt die Band jede Bühne – leidenschaftlich\, laut und mit voller Hingabe. \n\n\n\n\n\n\n\n\n\n* NO NAZIS * NO SEXISTS * NO ANTISEMITES * NO SHIRT = NO SERVICE *\n\n\n\nWir dulden kein Merchandise von Bands aus dem rechten Spektrum. Beim Tragen von Merch einschlägiger Bands machen wir Gebrauch von unserem Hausrecht und der Zutritt zur Veranstaltung wird verweigert. Hier hilft dann auch kein diskutieren! Allgemein wünschen wir uns einen rücksichtsvollen Umgang miteinander\, damit wir gemeinsam eine gute Zeit haben. Solltet ihr ein Anliegen haben\, könnt ihr euch jederzeit an das Personal an der Tür oder an das Awareness-Team (wenn im Einsatz) wenden.
URL:https://www.boombatzeentertainment.de/event/cava-berlin-cafe-tikolor-erfurt/
LOCATION:Café Tikolor (Ex-Tiko)\, Am Wenigemarkt 5a\, Erfurt\, Thüringen\, 99084\, Deutschland
CATEGORIES:Café Tikolor,Erfurt,Local shows
ATTACH;FMTTYPE=image/webp:https://www.boombatzeentertainment.de/wp-content/uploads/2024/08/cava25-pt-sharepic_1.webp
ORGANIZER;CN="Boombatze Entertainment":MAILTO:atze@boombatzeentertainment.de
END:VEVENT
END:VCALENDAR