BEGIN:VCALENDAR
VERSION:2.0
PRODID:-//Boombatze Entertainment - ECPv6.15.20//NONSGML v1.0//EN
CALSCALE:GREGORIAN
METHOD:PUBLISH
X-WR-CALNAME:Boombatze Entertainment
X-ORIGINAL-URL:https://www.boombatzeentertainment.de
X-WR-CALDESC:Veranstaltungen für Boombatze Entertainment
REFRESH-INTERVAL;VALUE=DURATION:PT1H
X-Robots-Tag:noindex
X-PUBLISHED-TTL:PT1H
BEGIN:VTIMEZONE
TZID:Europe/Berlin
BEGIN:DAYLIGHT
TZOFFSETFROM:+0100
TZOFFSETTO:+0200
TZNAME:CEST
DTSTART:20250330T010000
END:DAYLIGHT
BEGIN:STANDARD
TZOFFSETFROM:+0200
TZOFFSETTO:+0100
TZNAME:CET
DTSTART:20251026T010000
END:STANDARD
BEGIN:DAYLIGHT
TZOFFSETFROM:+0100
TZOFFSETTO:+0200
TZNAME:CEST
DTSTART:20260329T010000
END:DAYLIGHT
BEGIN:STANDARD
TZOFFSETFROM:+0200
TZOFFSETTO:+0100
TZNAME:CET
DTSTART:20261025T010000
END:STANDARD
BEGIN:DAYLIGHT
TZOFFSETFROM:+0100
TZOFFSETTO:+0200
TZNAME:CEST
DTSTART:20270328T010000
END:DAYLIGHT
BEGIN:STANDARD
TZOFFSETFROM:+0200
TZOFFSETTO:+0100
TZNAME:CET
DTSTART:20271031T010000
END:STANDARD
END:VTIMEZONE
BEGIN:VEVENT
DTSTART;TZID=Europe/Berlin:20260422T190000
DTEND;TZID=Europe/Berlin:20260422T230000
DTSTAMP:20260420T060501
CREATED:20260129T171900Z
LAST-MODIFIED:20260330T093911Z
UID:16641-1776884400-1776898800@www.boombatzeentertainment.de
SUMMARY:[Abgesagt!] BRATAKUS [SCO] + NO BRAKES [GTH] | Café Tikolor Erfurt
DESCRIPTION:Leider haben die aktuellen Umstände auch Auswirkungen auf Tourpläne von gerade kleineren Acts. \n\n\n\nWie leider auch in diesem Falle:  \n\n\n\n\n„Hey everyone\, it’s with heavy hearts that we write this. We’ve been forced to make the tough decision to reschedule our German tour due to rising costs and the current climate making it financially impossible for us to move forward right now. We are absolutely gutted to let you down\, and please know we would never do something like this lightly. We promise to make this up to you and are already working on returning under better circumstances.“ BRATAKUS\n\n\n\nWir versuchen so schnell wie möglich\, einen neuen Termin zu finden. Eventuell wird die Tour im November nachgeholt. Die Tickets behalten ihre Gültigkeit. \n\n\n\n\n>>> Hier schnell zu den Tickets <<<\n\n\n\n\n\n\n\nBRATAKUS [DIY-Punkrock-Duo | SCO]\n\n\n\nInstagram\n\nBandcamp\n\nFacebook\n\nYouTube\n\nSpotify\n\n\n\nNO BRAKES [Melodic Punk | GTH]\n\n\n\nInstagram\n\nBandcamp\n\nYouTube\n\nFacebook\n\nSoundCloud\n\nTikTok\n\n\n\nMi 22.4.2026 | Doors 19Uhr | Start 20UhrCafé Tiko(lor) Erfurt\n\n\n\nBRATAKUS kommen zurück nach Erfurt! \n\n\n\nAm 22.04.26 steht das schottische DIY-Punkrock-Duo wieder in Erfurt auf der Bühne\, diesmal im Café Tiko(lor) – gemeinsam mit NO BRAKES aus Gotha. \n\n\n\nBRATAKUS bestehen aus den Schwestern Brèagha und Onnagh Cuinn und wurden 2015 mitten im Nirgendwo bei Tomintoul in den schottischen Highlands gegründet. Ohne Szene\, ohne Drummer – dafür mit maximalem Drive haben sie sich kurzerhand selbst organisiert und ihren eigenen Sound auf die Bühne gebracht. \n\n\n\nSeit Tag eins komplett DIY: keine Deals\, keine Kompromisse\, dafür unermüdlich auf Tour. Mit mehreren Releases und Shows von Europa bis Japan (u.a. mit The Hives) haben sich BRATAKUS einen Namen als intensive und energiegeladene Liveband gemacht. \n\n\n\nNach ihrem Abriss im September 2025 im Museumskeller kehren die beiden nun nach Erfurt zurück! \n\n\n\nSupport kommt von NO BRAKES aus Gotha: Melodischer Punkrock seit 2009\, eingängige Hooks\, treibende Rhythmen und Songs\, die direkt ins Ohr gehen. \n\n\n\n\n\n\n\n\n\n\n\n\n\n\n\n\n\n\n\nTickets\n\n\n\nTickets auch auf thuGO.de erhältlich
URL:https://www.boombatzeentertainment.de/event/bratakus-sco-no-brakes-gth-cafe-tikolor-erfurt/
LOCATION:Museumskeller\, Juri-Gagarin-Ring 140a\, Erfurt\, Thüringen\, 99084\, Germany
CATEGORIES:Café Tikolor,Erfurt,Local shows
ATTACH;FMTTYPE=image/webp:https://www.boombatzeentertainment.de/wp-content/uploads/2026/01/bratakus26-sharepic_1-1.webp
END:VEVENT
END:VCALENDAR