BEGIN:VCALENDAR
VERSION:2.0
PRODID:-//Boombatze Entertainment - ECPv6.15.20//NONSGML v1.0//EN
CALSCALE:GREGORIAN
METHOD:PUBLISH
X-ORIGINAL-URL:https://www.boombatzeentertainment.de
X-WR-CALDESC:Veranstaltungen für Boombatze Entertainment
REFRESH-INTERVAL;VALUE=DURATION:PT1H
X-Robots-Tag:noindex
X-PUBLISHED-TTL:PT1H
BEGIN:VTIMEZONE
TZID:Europe/Berlin
BEGIN:DAYLIGHT
TZOFFSETFROM:+0100
TZOFFSETTO:+0200
TZNAME:CEST
DTSTART:20240331T010000
END:DAYLIGHT
BEGIN:STANDARD
TZOFFSETFROM:+0200
TZOFFSETTO:+0100
TZNAME:CET
DTSTART:20241027T010000
END:STANDARD
BEGIN:DAYLIGHT
TZOFFSETFROM:+0100
TZOFFSETTO:+0200
TZNAME:CEST
DTSTART:20250330T010000
END:DAYLIGHT
BEGIN:STANDARD
TZOFFSETFROM:+0200
TZOFFSETTO:+0100
TZNAME:CET
DTSTART:20251026T010000
END:STANDARD
BEGIN:DAYLIGHT
TZOFFSETFROM:+0100
TZOFFSETTO:+0200
TZNAME:CEST
DTSTART:20260329T010000
END:DAYLIGHT
BEGIN:STANDARD
TZOFFSETFROM:+0200
TZOFFSETTO:+0100
TZNAME:CET
DTSTART:20261025T010000
END:STANDARD
END:VTIMEZONE
BEGIN:VEVENT
DTSTART;TZID=Europe/Berlin:20250314T190000
DTEND;TZID=Europe/Berlin:20250314T230000
DTSTAMP:20260421T091614
CREATED:20240925T111527Z
LAST-MODIFIED:20250917T122320Z
UID:12780-1741978800-1741993200@www.boombatzeentertainment.de
SUMMARY:SHITNEY BEERS [HH] + LEWIA [EF] | Ilvers Erfurt
DESCRIPTION:>>> Hier schnell zu den Tickets <<<\n\n\n\nSHITNEY BEERS [Pop | Hamburg]\n\n\n\nBandcamp\n\nInstagram\n\nFacebook\n\nSpotify\n\n\n\nLEWIA [Punk am Klavier | EF]\n\n\n\nBandcamp\n\nInstagram\n\nYouTube\n\nSpotify\n\n\n\nFr 14.3.2025 | Doors 19Uhr | Start 20Uhr | Ilvers Erfurt\n\n\n\nSHITNEY BEERS starten die Expedition zu ihrem dritten\, am 13.12.2024 auf Grand Hotel van Cleef und Zeitstrafe erscheinenden\, Album „Amity Island“! Die erste Single „Maya Hawke“ ist ab dem 27.09.24 überall im Streaming zu hören und es ist direkt alles drin: Fluffige Synthesizer-Ohrwurm-Hook\, das schönste und selbstbewussteste Spätsommer-Gitarrensolo\, was die deutsche Indierock-Szene je gesehen hat und sofort zündende funkelnd-knarzige nineties-Popgrunge-Melodien – ist es das queerfeministische „Teenage Dirtbag“\, was wir alle wollten? Ja! \n\n\n\nDarüber hinaus bietet das Album 12 neue Perlen der außergewöhnlichen Hamburger Band\, die am 2022er Hit-Album „This is Pop“ anknüpfen und SHITNEY BEERS noch breiter aufgestellt zeigen: Mehr Instrumentierung (Banjo\, Streicher) und cremige Chöre\, mit „Done“ featuring Brockhoff ist außerdem das neue „Don’t let the sun go down on me“ dabei. Ein Traum und auch inhaltlich (hier sei besonders „N4N“ genannt) trotz der Neunzigerjahre College-Rock-Anleihen hochgradig zeitgemäß und ein wichtiges Album für die FLINTA* Szene.  \n\n\n\nUND natürlich geht es mit „Amity Island“ auch auf Tour\, im Frühling 2025! Nicht entgehen lassen. \n\n\n\n\n\n\n\nZarte Klavierklänge – harte Texte.LEWIA singt vom Hedonismus des Alltags\, von Romantik und von radikaler Systemkritik.Dabei entsteht etwas\, das sie selbst als „Punk am Klavier“ bezeichnet. Und das gibt sie zum Besten – egal ob auf Konzertbühnen oder auf der Straße. \n\n\n\n\n\n\n\n\n\n* NO NAZIS * NO SEXISTS * NO ANTISEMITES * NO SHIRT = NO SERVICE *\n\n\n\nWir dulden kein Merchandise von Bands aus dem rechten Spektrum. Beim Tragen von Merch einschlägiger Bands machen wir Gebrauch von unserem Hausrecht und der Zutritt zur Veranstaltung wird verweigert. Hier hilft dann auch kein diskutieren! Allgemein wünschen wir uns einen rücksichtsvollen Umgang miteinander\, damit wir gemeinsam eine gute Zeit haben. Solltet ihr ein Anliegen haben\, könnt ihr euch jederzeit an das Personal an der Tür oder an das Awareness-Team (wenn im Einsatz) wenden. \n\n\n\n\n\n\n\n\n\n\n\n\n\nTickets
URL:https://www.boombatzeentertainment.de/event/shitney-beers-hh-ilvers-erfurt/
LOCATION:Ilvers\, Magdeburger Allee 136\, Erfurt\, Thüringen\, 99086\, Germany
CATEGORIES:Erfurt,Ilvers Musikbar,Local shows
ATTACH;FMTTYPE=image/webp:https://www.boombatzeentertainment.de/wp-content/uploads/2024/09/shitney25-sharepic_1.webp
END:VEVENT
END:VCALENDAR